BEGIN:VCALENDAR
VERSION:2.0
PRODID:Fort Bend County, TX Calendar Creator
METHOD:PUBLISH
BEGIN:VEVENT
DTSTAMP:20250917T083439
DTSTART:20250920T040000
DTEND:20250920T060000
SUMMARY:NOTICE OF PUBLIC HEARING - FBC CITIZENS REDISTRICTING ADVISORY COMMITTEE
DESCRIPTION:<p><a href="https://www.fortbendcountytx.gov/sites/default/files/document-central/document-central/commr-court-documents/notice-of-public-hearing---sugar-land.pdf" target="_blank" type="application/pd
CLASS:PUBLIC
END:VEVENT
END:VCALENDAR
